BEGIN:VCALENDAR
VERSION:2.0
PRODID:-//el Patio de Toledo - ECPv6.15.20//NONSGML v1.0//EN
CALSCALE:GREGORIAN
METHOD:PUBLISH
X-WR-CALNAME:el Patio de Toledo
X-ORIGINAL-URL:https://www.elpatiodetoledo.es
X-WR-CALDESC:Eventos para el Patio de Toledo
REFRESH-INTERVAL;VALUE=DURATION:PT1H
X-Robots-Tag:noindex
X-PUBLISHED-TTL:PT1H
BEGIN:VTIMEZONE
TZID:Europe/Madrid
BEGIN:DAYLIGHT
TZOFFSETFROM:+0100
TZOFFSETTO:+0200
TZNAME:CEST
DTSTART:20160327T010000
END:DAYLIGHT
BEGIN:STANDARD
TZOFFSETFROM:+0200
TZOFFSETTO:+0100
TZNAME:CET
DTSTART:20161030T010000
END:STANDARD
BEGIN:DAYLIGHT
TZOFFSETFROM:+0100
TZOFFSETTO:+0200
TZNAME:CEST
DTSTART:20170326T010000
END:DAYLIGHT
BEGIN:STANDARD
TZOFFSETFROM:+0200
TZOFFSETTO:+0100
TZNAME:CET
DTSTART:20171029T010000
END:STANDARD
BEGIN:DAYLIGHT
TZOFFSETFROM:+0100
TZOFFSETTO:+0200
TZNAME:CEST
DTSTART:20180325T010000
END:DAYLIGHT
BEGIN:STANDARD
TZOFFSETFROM:+0200
TZOFFSETTO:+0100
TZNAME:CET
DTSTART:20181028T010000
END:STANDARD
END:VTIMEZONE
BEGIN:VEVENT
DTSTART;TZID=Europe/Madrid:20171007T193000
DTEND;TZID=Europe/Madrid:20171007T213000
DTSTAMP:20260423T062521
CREATED:20170920T100444Z
LAST-MODIFIED:20170920T100444Z
UID:573-1507404600-1507411800@www.elpatiodetoledo.es
SUMMARY:Concierto "Día del Mayor" - Carranque (Toledo)
DESCRIPTION:Con motivo del Día del Mayor – Carranque (Toledo)\, el Grupo Musical El Patio de Toledo\, actuará en la Casa de la Cultura de Carranque (Toledo) el Sábado 7 de Octubre de 2017 a las 17:30
URL:https://www.elpatiodetoledo.es/evento/concierto-dia-del-mayor-carranque-toledo/
LOCATION:Casa de la Cultura\, Carranque (Toledo)\, Plaza Eras nº 5\, Carranque\, Toledo\, 45216\, España
CATEGORIES:Actuación
ATTACH;FMTTYPE=image/jpeg:https://www.elpatiodetoledo.es/wp-content/uploads/2017/09/Carranque-7-Octubre-2017.jpg
END:VEVENT
END:VCALENDAR