BEGIN:VCALENDAR
VERSION:2.0
PRODID:-//el Patio de Toledo - ECPv6.15.20//NONSGML v1.0//EN
CALSCALE:GREGORIAN
METHOD:PUBLISH
X-ORIGINAL-URL:https://www.elpatiodetoledo.es
X-WR-CALDESC:Eventos para el Patio de Toledo
REFRESH-INTERVAL;VALUE=DURATION:PT1H
X-Robots-Tag:noindex
X-PUBLISHED-TTL:PT1H
BEGIN:VTIMEZONE
TZID:Europe/Madrid
BEGIN:DAYLIGHT
TZOFFSETFROM:+0100
TZOFFSETTO:+0200
TZNAME:CEST
DTSTART:20180325T010000
END:DAYLIGHT
BEGIN:STANDARD
TZOFFSETFROM:+0200
TZOFFSETTO:+0100
TZNAME:CET
DTSTART:20181028T010000
END:STANDARD
BEGIN:DAYLIGHT
TZOFFSETFROM:+0100
TZOFFSETTO:+0200
TZNAME:CEST
DTSTART:20190331T010000
END:DAYLIGHT
BEGIN:STANDARD
TZOFFSETFROM:+0200
TZOFFSETTO:+0100
TZNAME:CET
DTSTART:20191027T010000
END:STANDARD
BEGIN:DAYLIGHT
TZOFFSETFROM:+0100
TZOFFSETTO:+0200
TZNAME:CEST
DTSTART:20200329T010000
END:DAYLIGHT
BEGIN:STANDARD
TZOFFSETFROM:+0200
TZOFFSETTO:+0100
TZNAME:CET
DTSTART:20201025T010000
END:STANDARD
END:VTIMEZONE
BEGIN:VEVENT
DTSTART;TZID=Europe/Madrid:20190322T210000
DTEND;TZID=Europe/Madrid:20190322T230000
DTSTAMP:20260419T184639
CREATED:20190227T101439Z
LAST-MODIFIED:20190227T101439Z
UID:812-1553288400-1553295600@www.elpatiodetoledo.es
SUMMARY:Concierto Leído en La Madriguera de Papel
DESCRIPTION:VIERNES 22\nCONCIERTOS POR LA GORRA \nGrupo EL PATIO  \nHora: 20h\nTodos los públicos
URL:https://www.elpatiodetoledo.es/evento/concierto-leido-en-la-madriguera-de-papel/
LOCATION:La Madriguera de Papel\, Avenida del Madroño\, 6\, Toledo\, Toledo\, 45005\, Spain
CATEGORIES:Actuación
ATTACH;FMTTYPE=image/jpeg:https://www.elpatiodetoledo.es/wp-content/uploads/2019/02/La-Madriguera-de-Papel-2019.jpg
END:VEVENT
END:VCALENDAR